BEGIN:VCALENDAR
VERSION:2.0
PRODID:-//LIAFPN - ECPv6.15.20//NONSGML v1.0//EN
CALSCALE:GREGORIAN
METHOD:PUBLISH
X-ORIGINAL-URL:https://liafpn.org
X-WR-CALDESC:Events for LIAFPN
REFRESH-INTERVAL;VALUE=DURATION:PT1H
X-Robots-Tag:noindex
X-PUBLISHED-TTL:PT1H
BEGIN:VTIMEZONE
TZID:America/New_York
BEGIN:DAYLIGHT
TZOFFSETFROM:-0500
TZOFFSETTO:-0400
TZNAME:EDT
DTSTART:20220313T070000
END:DAYLIGHT
BEGIN:STANDARD
TZOFFSETFROM:-0400
TZOFFSETTO:-0500
TZNAME:EST
DTSTART:20221106T060000
END:STANDARD
BEGIN:DAYLIGHT
TZOFFSETFROM:-0500
TZOFFSETTO:-0400
TZNAME:EDT
DTSTART:20230312T070000
END:DAYLIGHT
BEGIN:STANDARD
TZOFFSETFROM:-0400
TZOFFSETTO:-0500
TZNAME:EST
DTSTART:20231105T060000
END:STANDARD
BEGIN:DAYLIGHT
TZOFFSETFROM:-0500
TZOFFSETTO:-0400
TZNAME:EDT
DTSTART:20240310T070000
END:DAYLIGHT
BEGIN:STANDARD
TZOFFSETFROM:-0400
TZOFFSETTO:-0500
TZNAME:EST
DTSTART:20241103T060000
END:STANDARD
END:VTIMEZONE
BEGIN:VEVENT
DTSTART;TZID=America/New_York:20230301T180000
DTEND;TZID=America/New_York:20230301T200000
DTSTAMP:20260419T121917
CREATED:20230227T172734Z
LAST-MODIFIED:20230227T172734Z
UID:1260-1677693600-1677700800@liafpn.org
SUMMARY:2023 ACLD Poker for a Purpose Kickoff Event
DESCRIPTION:Join us on Wednesday\, March 1st at 6 pm for the 2023 ACLD Poker for a Purpose Kickoff Event at Simplay in Hauppauge! \nThere will be complementary simulator games & hors d’oeuvres and an opportunity for extra chips & casino dollars if you register for the #PokerForAPurpose event in May. \nRegister below to experience this fantastic evening of networking and fun while supporting ACLD and its mission to provide opportunities for children and adults with autism\, learning & developmental disabilities \nRegister here
URL:https://liafpn.org/event/2023-acld-poker-for-a-purpose-kickoff-event/
LOCATION:Simplay in Hauppauge
END:VEVENT
BEGIN:VEVENT
DTSTART;TZID=America/New_York:20230322T080000
DTEND;TZID=America/New_York:20230322T110000
DTSTAMP:20260419T121917
CREATED:20230223T171104Z
LAST-MODIFIED:20230223T171104Z
UID:1258-1679472000-1679482800@liafpn.org
SUMMARY:2023 Social Security Benefits Seminar & Breakfast: An LIAFPN Gathering!
DESCRIPTION:Hosted by Ken Fish & Brian Doherty \nSponsored by NAIFA \n\nWe are thrilled to present another fantastic opportunity to connect and learn! \nPlease join us on Wednesday\, March 22nd at 8:00 AM at 201 Old Country Rd Melville\, NY 11747 Lower Level for breakfast and a discussion on Social Security Benefits. \nKen Fish\, Regional Vice President for Touchstone Investments\, & Brian Doherty\, a nationally-recognized authority on Social Security claiming strategies and a speaker and media commentator\, will provide the ins and outs of when to take social security benefits. \nWe hope you can make it! Please let us know by clicking here to confirm your attendance. We look forward to seeing you!
URL:https://liafpn.org/event/2023-social-security-benefits-seminar-breakfast-an-liafpn-gathering/
LOCATION:201 Old Country Road Suite 140 (lower level) ﻿Melville\, NY 11747\, 201 Old Country Road Suite 140 (lower level)\, Melville\, NY\, 11747
END:VEVENT
END:VCALENDAR