BEGIN:VCALENDAR
VERSION:2.0
PRODID:-//LIAFPN - ECPv6.15.20//NONSGML v1.0//EN
CALSCALE:GREGORIAN
METHOD:PUBLISH
X-ORIGINAL-URL:https://liafpn.org
X-WR-CALDESC:Events for LIAFPN
REFRESH-INTERVAL;VALUE=DURATION:PT1H
X-Robots-Tag:noindex
X-PUBLISHED-TTL:PT1H
BEGIN:VTIMEZONE
TZID:America/New_York
BEGIN:DAYLIGHT
TZOFFSETFROM:-0500
TZOFFSETTO:-0400
TZNAME:EDT
DTSTART:20190310T070000
END:DAYLIGHT
BEGIN:STANDARD
TZOFFSETFROM:-0400
TZOFFSETTO:-0500
TZNAME:EST
DTSTART:20191103T060000
END:STANDARD
BEGIN:DAYLIGHT
TZOFFSETFROM:-0500
TZOFFSETTO:-0400
TZNAME:EDT
DTSTART:20200308T070000
END:DAYLIGHT
BEGIN:STANDARD
TZOFFSETFROM:-0400
TZOFFSETTO:-0500
TZNAME:EST
DTSTART:20201101T060000
END:STANDARD
BEGIN:DAYLIGHT
TZOFFSETFROM:-0500
TZOFFSETTO:-0400
TZNAME:EDT
DTSTART:20210314T070000
END:DAYLIGHT
BEGIN:STANDARD
TZOFFSETFROM:-0400
TZOFFSETTO:-0500
TZNAME:EST
DTSTART:20211107T060000
END:STANDARD
END:VTIMEZONE
BEGIN:VEVENT
DTSTART;TZID=America/New_York:20200826T080000
DTEND;TZID=America/New_York:20200826T090000
DTSTAMP:20260421T174605
CREATED:20200821T135642Z
LAST-MODIFIED:20200821T135716Z
UID:997-1598428800-1598432400@liafpn.org
SUMMARY:IP as an Asset with Matthew Asbel
DESCRIPTION:Join us for an exciting Zoom meeting on Wednesday\, August 26th at 8:00 am on the topic of intellectual property (IP) with attorney Matthew Asbell. Matthew is consistently ranked among the top intellectual property attorneys both nationally and internationally and will speak specifically about IP as an estate asset. \nAs always\, you will have the opportunity to ask Matthew any questions you may have. \nClick here to register \n \nMatthew Asbell assists clients in clearing\, obtaining\, enforcing\, and defending trademark rights in the United States and throughout the world. He also provides advice on patents\, copyrights\, domain names\, and other related areas. With prior background in the entertainment industry\, information technology\, and medicine\, he is comfortable working with a wide range of clients in diverse industries. In addition\, his certifications as a Social Media Strategist and software Master Instructor equip him to handle complex intellectual property matters arising in the Web 2.0 space.\nMatthew frequently collaborates on and authors articles on intellectual property on subjects ranging from social media and domain names to licensing\, branding\, and information technology. He is an active speaker and lecturer and is a frequent moderator and panelist at ABA\, INTA\, and other conferences. He has been an adjunct professor of law at Fordham University\, The Benjamin N. Cardozo School of Law\, and Columbia University. Matthew co-produced a series of 5 informational videos for the American Bar Association that illustrate intellectual property rights in different settings. \nMatthew received his B.S. in Psychology with a minor in Music Composition from Carnegie Mellon University and attended the Medical College of Pennsylvania\, (now part of Drexel University). He received his J.D. from the Benjamin N. Cardozo School of Law\, where he was president of the Intellectual Property Law Society and Acquisitions Editor of the top-ranked Cardozo Arts and Entertainment Law Journal. As an active alumnus\, he serves on the Alumni Executive Committee\, chairs the Alumni Intellectual Property Practice Group\, and mentors numerous young attorneys and law students. \nPrior to becoming a lawyer\, he managed emerging singer-songwriters and recording artists\, trained corporate employees of a pharmaceutical company to use software applications\, and studied medicine. Matthew’s passion for his work in intellectual property arises from a deep appreciation for creativity\, whether in the form of invention\, design\, expression\, or marketing. He regularly applies his love of technology\, language\, and culture. \nOutside of work\, Matthew\, a native of Philadelphia\, enjoys spending time with his wife\, a Brazilian staff member of the United Nations\, and their twin children. His interests range from music (including songwriting\, piano\, guitar\, and percussion)\, cooking\, SCUBA diving\, and martial arts.
URL:https://liafpn.org/event/ip-as-an-asset-with-matthew-asbel/
LOCATION:NY
END:VEVENT
END:VCALENDAR