BEGIN:VCALENDAR
VERSION:2.0
PRODID:-//LIAFPN - ECPv6.15.20//NONSGML v1.0//EN
CALSCALE:GREGORIAN
METHOD:PUBLISH
X-ORIGINAL-URL:https://liafpn.org
X-WR-CALDESC:Events for LIAFPN
REFRESH-INTERVAL;VALUE=DURATION:PT1H
X-Robots-Tag:noindex
X-PUBLISHED-TTL:PT1H
BEGIN:VTIMEZONE
TZID:America/New_York
BEGIN:DAYLIGHT
TZOFFSETFROM:-0500
TZOFFSETTO:-0400
TZNAME:EDT
DTSTART:20190310T070000
END:DAYLIGHT
BEGIN:STANDARD
TZOFFSETFROM:-0400
TZOFFSETTO:-0500
TZNAME:EST
DTSTART:20191103T060000
END:STANDARD
BEGIN:DAYLIGHT
TZOFFSETFROM:-0500
TZOFFSETTO:-0400
TZNAME:EDT
DTSTART:20200308T070000
END:DAYLIGHT
BEGIN:STANDARD
TZOFFSETFROM:-0400
TZOFFSETTO:-0500
TZNAME:EST
DTSTART:20201101T060000
END:STANDARD
BEGIN:DAYLIGHT
TZOFFSETFROM:-0500
TZOFFSETTO:-0400
TZNAME:EDT
DTSTART:20210314T070000
END:DAYLIGHT
BEGIN:STANDARD
TZOFFSETFROM:-0400
TZOFFSETTO:-0500
TZNAME:EST
DTSTART:20211107T060000
END:STANDARD
END:VTIMEZONE
BEGIN:VEVENT
DTSTART;TZID=America/New_York:20200603T080000
DTEND;TZID=America/New_York:20200603T090000
DTSTAMP:20260421T213720
CREATED:20200619T194610Z
LAST-MODIFIED:20200619T195637Z
UID:914-1591171200-1591174800@liafpn.org
SUMMARY:Cutting Edge Estate Planning Techniques Zoom Webinar
DESCRIPTION:The recent drop in the Applicable Federal Rates (AFR) and Section 7520 Rate make this the best time for your high net worth clients to finance the purchase of their life insurance.\n\nJoin us on Wednesday\, June 3rd at 8:00 AM for a Zoom meeting with Carly Brooks\, JD\, CFP of John Hancock Advanced Markets\, as she goes over 3 alternative private funding techniques you absolutely have to know that allows your clients to take advantage of these historically low lending rates.\n\nEveryone in attendance will also receive a one-page cost comparison for each financing technique that you can begin using with your clients immediately.\n\nAs always\, this meeting is interactive – meaning you can ask Carly questions throughout our time with her!
URL:https://liafpn.org/event/914/
LOCATION:NY
END:VEVENT
BEGIN:VEVENT
DTSTART;TZID=America/New_York:20200617T080000
DTEND;TZID=America/New_York:20200617T090000
DTSTAMP:20260421T213720
CREATED:20200619T193753Z
LAST-MODIFIED:20200619T195637Z
UID:908-1592380800-1592384400@liafpn.org
SUMMARY:Valuations in a Volatile Market Zoom Webinar
DESCRIPTION:Market volatility through COVID-19 has compromised innumerable businesses. It has also helped businesses reach unanticipated heights.\n\nJoin us Wednesday at 8:00 AM for a Zoom meeting with Larry Bloom and Philip Kanyuk\, as they walk us through multiple business scenarios and how each scenario effects the sale and purchase prices of a business.\n\nThis meeting is interactive\, meaning you can ask Larry and Philip questions throughout our time with them!
URL:https://liafpn.org/event/valuations-in-a-volatile-market/
LOCATION:Zoom
END:VEVENT
END:VCALENDAR