BEGIN:VCALENDAR
VERSION:2.0
PRODID:-//LIAFPN - ECPv6.15.20//NONSGML v1.0//EN
CALSCALE:GREGORIAN
METHOD:PUBLISH
X-ORIGINAL-URL:https://liafpn.org
X-WR-CALDESC:Events for LIAFPN
REFRESH-INTERVAL;VALUE=DURATION:PT1H
X-Robots-Tag:noindex
X-PUBLISHED-TTL:PT1H
BEGIN:VTIMEZONE
TZID:America/New_York
BEGIN:DAYLIGHT
TZOFFSETFROM:-0500
TZOFFSETTO:-0400
TZNAME:EDT
DTSTART:20190310T070000
END:DAYLIGHT
BEGIN:STANDARD
TZOFFSETFROM:-0400
TZOFFSETTO:-0500
TZNAME:EST
DTSTART:20191103T060000
END:STANDARD
BEGIN:DAYLIGHT
TZOFFSETFROM:-0500
TZOFFSETTO:-0400
TZNAME:EDT
DTSTART:20200308T070000
END:DAYLIGHT
BEGIN:STANDARD
TZOFFSETFROM:-0400
TZOFFSETTO:-0500
TZNAME:EST
DTSTART:20201101T060000
END:STANDARD
BEGIN:DAYLIGHT
TZOFFSETFROM:-0500
TZOFFSETTO:-0400
TZNAME:EDT
DTSTART:20210314T070000
END:DAYLIGHT
BEGIN:STANDARD
TZOFFSETFROM:-0400
TZOFFSETTO:-0500
TZNAME:EST
DTSTART:20211107T060000
END:STANDARD
END:VTIMEZONE
BEGIN:VEVENT
DTSTART;TZID=America/New_York:20200506T080000
DTEND;TZID=America/New_York:20200506T090000
DTSTAMP:20260421T232645
CREATED:20200619T195352Z
LAST-MODIFIED:20200619T195637Z
UID:925-1588752000-1588755600@liafpn.org
SUMMARY:CRITICAL information about bankruptcy restructuring during this financial crisis
DESCRIPTION:Join us on Wednesday\, May 6th at 8:00 AM for an interactive Zoom meeting with renowned bankruptcy attorney Andrew Thaler. Among the many critical subjects Andrew plans to discuss (listed below)\, he will also be highlighting the differences between Chapter 11 and the recently introduced Subchapter V reorganization under Chapter 11.\n\nKeep reading for a more detailed overview of what Andrew will educate us on during our meeting\, and for a bit about Andrew and his illustrious career. As always\, this meeting is interactive – meaning you can ask Andrew questions throughout our time with him.\n\nSPECIAL GUEST: ANDREW M. THALER\nAndrew M. Thaler is the founding member of Thaler Law Firm PLLC. With over 30 years of experience in the bankruptcy\, insolvency\, and restructuring fields\, his practice focuses on a wide spectrum of matters\, including representation of debtors\, creditors\, trustees\, and creditors’ committees in commercial chapter 11 and 7 cases\, consumer chapter 7 and 13 cases\, and various situated parties in complex bankruptcy litigation and insolvency matters. He has represented clients and handled matters in diverse industries\, including professional and service businesses\, manufacturing and retail companies\, and financial institutions.\nAs a federally appointed Chapter 7 Panel Trustee for the United States Bankruptcy Court for the Eastern District of New York since 1990\, Mr. Thaler has presided over twenty thousand bankruptcy cases. In addition to his bankruptcy practice\, he also serves as a mediator for the United States Bankruptcy Court for the Eastern District of New York and the Mediation Panel of the Commercial Division of the New York State Supreme Court\, Nassau County. \nMr. Thaler is active in the Nassau County Bar Association\, where he has served as a member of the Board of Directors\, former Dean of the Nassau Academy of Law\, and Chair of the Bankruptcy Law and Alternative Dispute Resolution Committees. He has lectured on bankruptcy and insolvency topics for the Nassau Academy of Law\, the National Business Institute\, the New York State Society of Certified Public Accountants\, and First American Title Insurance Company of New York. Mr. Thaler is a member of the New York City Bar Association’s Committee on Bankruptcy & Corporate Reorganization. He is Past President (2010) of The Theodore Roosevelt American Inn of Court. In 2003\, Mr. Thaler received the Partner in Justice Pro Bono Award from the Nassau/Suffolk Law Services Committee for his pro bono service to the community. \nMr. Thaler is rated “AV Preeminent” by Martindale-Hubbell\, the highest level in professional excellence\, and was recognized by L.I. Pulse Magazine in 2010 – 2016 as one of the region’s “Top Legal Eagles.” Mr. Thaler was named to the Super Lawyers list for the New York Metro area for excellence in bankruptcy in 2012 and each year thereafter to the present.
URL:https://liafpn.org/event/critical-information-about-bankruptcy-restructuring-during-this-financial-crisis/
LOCATION:NY
END:VEVENT
BEGIN:VEVENT
DTSTART;TZID=America/New_York:20200520T080000
DTEND;TZID=America/New_York:20200520T090000
DTSTAMP:20260421T232645
CREATED:20200619T194801Z
LAST-MODIFIED:20200619T195637Z
UID:918-1589961600-1589965200@liafpn.org
SUMMARY:Mitigating Cybersecurity Risk While Working from Home
DESCRIPTION:Join us on Wednesday\, May 20th at 8:00 AM for a Zoom meeting with David Steiner of Cypress Grove Technologies on how to ensure your online security is where it needs to be\, without breaking the bank.\n\nAs always\, this meeting is interactive – meaning you can ask David questions throughout our time with him!\n\n\n \n\n\n\n\n\n\n\nCypress Grove Technologies is a boutique IT firm that provides support\, consulting\, and services to small & mid-sized businesses throughout Manhattan and Long Island. Some of the services we offer our clientele are encrypted offsite backup; managed anti-virus with guaranteed inoculation; expert level remote desktop support; and 24/7 remote monitoring of servers and equipment. Our clients leverage our ability to proactively manage and maintain their networks\, minimize downtime\, and allow technology to go to work for them\, instead of getting in their way.
URL:https://liafpn.org/event/mitigating-cybersecurity-risk-while-working-from-home/
LOCATION:NY
END:VEVENT
END:VCALENDAR